Package: scviR Version: 1.11.0 Command: /home/biocbuild/bbs-3.23-bioc/R/bin/R CMD INSTALL scviR StartedAt: 2025-11-13 15:54:23 -0500 (Thu, 13 Nov 2025) EndedAt: 2025-11-13 15:54:55 -0500 (Thu, 13 Nov 2025) EllapsedTime: 31.9 seconds RetCode: 0 Status: OK