Package: scviR Version: 1.11.0 Command: /Library/Frameworks/R.framework/Resources/bin/R CMD INSTALL scviR StartedAt: 2025-11-13 15:31:31 -0500 (Thu, 13 Nov 2025) EndedAt: 2025-11-13 15:31:44 -0500 (Thu, 13 Nov 2025) EllapsedTime: 12.4 seconds RetCode: 0 Status: OK