Package: scviR Version: 1.11.0 Command: /Library/Frameworks/R.framework/Resources/bin/R CMD build --keep-empty-dirs --no-resave-data scviR StartedAt: 2025-11-13 17:40:48 -0500 (Thu, 13 Nov 2025) EndedAt: 2025-11-13 18:20:48 -0500 (Thu, 13 Nov 2025) EllapsedTime: 2400.0 seconds RetCode: None Status: TIMEOUT PackageFile: None PackageFileSize: NA