Package: scuttle Version: 1.21.0 Command: /home/biocbuild/bbs-3.23-bioc/R/bin/R CMD check --install=check:scuttle.install-out.txt --library=/home/biocbuild/bbs-3.23-bioc/R/site-library --timings scuttle_1.21.0.tar.gz StartedAt: 2025-11-15 03:56:48 -0500 (Sat, 15 Nov 2025) EndedAt: 2025-11-15 04:04:29 -0500 (Sat, 15 Nov 2025) EllapsedTime: 461.6 seconds RetCode: 0 Status: OK CheckDir: scuttle.Rcheck Warnings: 0