Package: scry Version: 1.23.0 Command: /home/biocbuild/bbs-3.23-bioc/R/bin/R CMD INSTALL scry StartedAt: 2025-11-13 15:52:41 -0500 (Thu, 13 Nov 2025) EndedAt: 2025-11-13 15:53:04 -0500 (Thu, 13 Nov 2025) EllapsedTime: 23.5 seconds RetCode: 0 Status: OK