Package: scry Version: 1.23.0 Command: /home/biocbuild/bbs-3.23-bioc/R/bin/R CMD build --keep-empty-dirs --no-resave-data scry StartedAt: 2025-11-13 19:58:07 -0500 (Thu, 13 Nov 2025) EndedAt: 2025-11-13 20:01:38 -0500 (Thu, 13 Nov 2025) EllapsedTime: 211.2 seconds RetCode: 0 Status: OK PackageFile: scry_1.23.0.tar.gz PackageFileSize: 4.495 MiB