Package: scry Version: 1.23.0 Maintainer: Kelly Street MaintainerEmail: street.kelly at gmail.com git_url: https://git.bioconductor.org/packages/scry git_branch: devel git_last_commit: 0eeb235 git_last_commit_date: 2025-10-29 10:59:07 -0500 (Wed, 29 Oct 2025)