Package: scruff Version: 1.29.0 Command: /Library/Frameworks/R.framework/Resources/bin/R CMD INSTALL scruff StartedAt: 2025-11-13 15:29:24 -0500 (Thu, 13 Nov 2025) EndedAt: 2025-11-13 15:29:50 -0500 (Thu, 13 Nov 2025) EllapsedTime: 26.1 seconds RetCode: 0 Status: OK