Package: scruff Version: 1.29.0 Command: /Library/Frameworks/R.framework/Resources/bin/R CMD build --keep-empty-dirs --no-resave-data scruff StartedAt: 2025-11-13 17:39:55 -0500 (Thu, 13 Nov 2025) EndedAt: 2025-11-13 17:40:50 -0500 (Thu, 13 Nov 2025) EllapsedTime: 54.6 seconds RetCode: 0 Status: OK PackageFile: scruff_1.29.0.tar.gz PackageFileSize: 1.716 MiB