Package: scruff Version: 1.29.0 Command: rm -rf scruff.buildbin-libdir && mkdir scruff.buildbin-libdir && /Users/biocbuild/BBS/utils/build-universal.sh scruff_1.29.0.tar.gz /Library/Frameworks/R.framework/Resources/bin/R scruff.buildbin-libdir StartedAt: 2025-11-13 23:56:03 -0500 (Thu, 13 Nov 2025) EndedAt: 2025-11-13 23:56:34 -0500 (Thu, 13 Nov 2025) EllapsedTime: 31.6 seconds RetCode: 0 Status: OK PackageFile: scruff_1.29.0.tgz PackageFileSize: 3.6 MiB