Package: scruff Version: 1.29.0 Maintainer: Zhe Wang MaintainerEmail: zhe at bu.edu git_url: https://git.bioconductor.org/packages/scruff git_branch: devel git_last_commit: e5f29bf git_last_commit_date: 2025-10-29 10:46:27 -0500 (Wed, 29 Oct 2025)