Package: screenCounter Version: 1.11.0 Command: /home/biocbuild/bbs-3.23-bioc/R/bin/R CMD build --keep-empty-dirs --no-resave-data screenCounter StartedAt: 2025-11-14 19:57:31 -0500 (Fri, 14 Nov 2025) EndedAt: 2025-11-14 19:59:17 -0500 (Fri, 14 Nov 2025) EllapsedTime: 106.1 seconds RetCode: 0 Status: OK PackageFile: screenCounter_1.11.0.tar.gz PackageFileSize: 292.5 KiB