Package: screenCounter Version: 1.11.0 Command: /Library/Frameworks/R.framework/Resources/bin/R CMD build --keep-empty-dirs --no-resave-data screenCounter StartedAt: 2025-11-13 17:39:17 -0500 (Thu, 13 Nov 2025) EndedAt: 2025-11-13 17:39:51 -0500 (Thu, 13 Nov 2025) EllapsedTime: 34.4 seconds RetCode: 0 Status: OK PackageFile: screenCounter_1.11.0.tar.gz PackageFileSize: 292.5 KiB