Package: screenCounter Version: 1.11.0 Command: rm -rf screenCounter.buildbin-libdir && mkdir screenCounter.buildbin-libdir && /Users/biocbuild/BBS/utils/build-universal.sh screenCounter_1.11.0.tar.gz /Library/Frameworks/R.framework/Resources/bin/R screenCounter.buildbin-libdir StartedAt: 2025-11-13 23:55:59 -0500 (Thu, 13 Nov 2025) EndedAt: 2025-11-13 23:56:31 -0500 (Thu, 13 Nov 2025) EllapsedTime: 31.7 seconds RetCode: 0 Status: OK PackageFile: screenCounter_1.11.0.tgz PackageFileSize: 529.2 KiB