Package: screenCounter Version: 1.11.0 Maintainer: Aaron Lun MaintainerEmail: infinite.monkeys.with.keyboards at gmail.com git_url: https://git.bioconductor.org/packages/screenCounter git_branch: devel git_last_commit: 57d0e9c git_last_commit_date: 2025-10-29 11:23:00 -0500 (Wed, 29 Oct 2025)