Package: scrapper Version: 1.5.2 Command: /home/biocbuild/bbs-3.23-bioc/R/bin/R CMD INSTALL scrapper StartedAt: 2025-11-13 15:17:54 -0500 (Thu, 13 Nov 2025) EndedAt: 2025-11-13 15:22:28 -0500 (Thu, 13 Nov 2025) EllapsedTime: 274.2 seconds RetCode: 0 Status: OK