Package: scrapper Version: 1.5.2 Command: /home/biocbuild/bbs-3.23-bioc/R/bin/R CMD build --keep-empty-dirs --no-resave-data scrapper StartedAt: 2025-11-13 19:56:15 -0500 (Thu, 13 Nov 2025) EndedAt: 2025-11-13 20:02:11 -0500 (Thu, 13 Nov 2025) EllapsedTime: 355.4 seconds RetCode: 0 Status: OK PackageFile: scrapper_1.5.2.tar.gz PackageFileSize: 949.3 KiB