Package: scrapper Version: 1.5.2 Command: /Library/Frameworks/R.framework/Resources/bin/R CMD INSTALL scrapper StartedAt: 2025-11-12 15:24:20 -0500 (Wed, 12 Nov 2025) EndedAt: 2025-11-12 15:25:32 -0500 (Wed, 12 Nov 2025) EllapsedTime: 71.5 seconds RetCode: 0 Status: OK