Package: scrapper Version: 1.5.2 Command: /Library/Frameworks/R.framework/Resources/bin/R CMD build --keep-empty-dirs --no-resave-data scrapper StartedAt: 2025-11-12 17:10:36 -0500 (Wed, 12 Nov 2025) EndedAt: 2025-11-12 17:11:54 -0500 (Wed, 12 Nov 2025) EllapsedTime: 77.9 seconds RetCode: 1 Status: ERROR PackageFile: None PackageFileSize: NA