Package: scrapper Version: 1.5.2 Maintainer: Aaron Lun MaintainerEmail: infinite.monkeys.with.keyboards at gmail.com git_url: https://git.bioconductor.org/packages/scrapper git_branch: devel git_last_commit: 5daae9c git_last_commit_date: 2025-11-10 17:51:44 -0500 (Mon, 10 Nov 2025)