Package: scran Version: 1.39.0 Command: /Library/Frameworks/R.framework/Resources/bin/R CMD INSTALL scran StartedAt: 2025-11-12 15:43:47 -0500 (Wed, 12 Nov 2025) EndedAt: 2025-11-12 15:43:48 -0500 (Wed, 12 Nov 2025) EllapsedTime: 1.1 seconds RetCode: 1 Status: ERROR