Package: scran Version: 1.39.0 Command: /Library/Frameworks/R.framework/Resources/bin/R CMD build --keep-empty-dirs --no-resave-data scran StartedAt: 2025-11-13 17:38:51 -0500 (Thu, 13 Nov 2025) EndedAt: 2025-11-13 17:40:07 -0500 (Thu, 13 Nov 2025) EllapsedTime: 76.8 seconds RetCode: 0 Status: OK PackageFile: scran_1.39.0.tar.gz PackageFileSize: 1.836 MiB