Package: scp Version: 1.21.0 Command: /home/biocbuild/bbs-3.23-bioc/R/bin/R CMD build --keep-empty-dirs --no-resave-data scp StartedAt: 2025-11-13 19:55:32 -0500 (Thu, 13 Nov 2025) EndedAt: 2025-11-13 19:59:29 -0500 (Thu, 13 Nov 2025) EllapsedTime: 236.2 seconds RetCode: 0 Status: OK PackageFile: scp_1.21.0.tar.gz PackageFileSize: 8.502 MiB