Package: scp Version: 1.21.0 Command: /Library/Frameworks/R.framework/Resources/bin/R CMD INSTALL scp StartedAt: 2025-11-12 15:36:13 -0500 (Wed, 12 Nov 2025) EndedAt: 2025-11-12 15:36:14 -0500 (Wed, 12 Nov 2025) EllapsedTime: 1.2 seconds RetCode: 1 Status: ERROR