############################################################################## ############################################################################## ### ### Running command: ### ### /Library/Frameworks/R.framework/Resources/bin/R CMD INSTALL scp ### ############################################################################## ############################################################################## * installing to library ‘/Library/Frameworks/R.framework/Versions/4.6-arm64/Resources/library’ ERROR: dependency ‘IHW’ is not available for package ‘scp’ Perhaps try a variation of: install.packages('IHW') * removing ‘/Library/Frameworks/R.framework/Versions/4.6-arm64/Resources/library/scp’