Package: scp Version: 1.21.0 Maintainer: Christophe Vanderaa MaintainerEmail: christophe.vanderaa at ugent.be git_url: https://git.bioconductor.org/packages/scp git_branch: devel git_last_commit: c32536b git_last_commit_date: 2025-10-29 11:03:14 -0500 (Wed, 29 Oct 2025)