Package: scoup Version: 1.5.0 Command: /Library/Frameworks/R.framework/Resources/bin/R CMD INSTALL scoup StartedAt: 2025-11-14 15:08:33 -0500 (Fri, 14 Nov 2025) EndedAt: 2025-11-14 15:08:39 -0500 (Fri, 14 Nov 2025) EllapsedTime: 5.7 seconds RetCode: 0 Status: OK