Package: scoup Version: 1.5.0 Command: /Library/Frameworks/R.framework/Resources/bin/R CMD build --keep-empty-dirs --no-resave-data scoup StartedAt: 2025-11-13 17:38:23 -0500 (Thu, 13 Nov 2025) EndedAt: 2025-11-13 17:38:32 -0500 (Thu, 13 Nov 2025) EllapsedTime: 9.1 seconds RetCode: 0 Status: OK PackageFile: scoup_1.5.0.tar.gz PackageFileSize: 334.3 KiB