Package: scoup Version: 1.5.0 Command: rm -rf scoup.buildbin-libdir && mkdir scoup.buildbin-libdir && /Users/biocbuild/BBS/utils/build-universal.sh scoup_1.5.0.tar.gz /Library/Frameworks/R.framework/Resources/bin/R scoup.buildbin-libdir StartedAt: 2025-11-13 23:55:46 -0500 (Thu, 13 Nov 2025) EndedAt: 2025-11-13 23:55:53 -0500 (Thu, 13 Nov 2025) EllapsedTime: 7.1 seconds RetCode: 0 Status: OK PackageFile: scoup_1.5.0.tgz PackageFileSize: 629.3 KiB