Package: scoup Version: 1.5.0 Maintainer: Hassan Sadiq MaintainerEmail: hassan.t.sadiq at gmail.com git_url: https://git.bioconductor.org/packages/scoup git_branch: devel git_last_commit: 4b3bf6b git_last_commit_date: 2025-10-29 11:32:33 -0500 (Wed, 29 Oct 2025)