Package: scoreInvHap Version: 1.33.0 Command: /home/biocbuild/bbs-3.23-bioc/R/bin/R CMD build --keep-empty-dirs --no-resave-data scoreInvHap StartedAt: 2025-11-14 19:55:36 -0500 (Fri, 14 Nov 2025) EndedAt: 2025-11-14 19:56:36 -0500 (Fri, 14 Nov 2025) EllapsedTime: 60.1 seconds RetCode: 0 Status: OK PackageFile: scoreInvHap_1.33.0.tar.gz PackageFileSize: 1.073 MiB