Package: scoreInvHap Version: 1.33.0 Command: /Library/Frameworks/R.framework/Resources/bin/R CMD INSTALL scoreInvHap StartedAt: 2025-11-14 15:21:27 -0500 (Fri, 14 Nov 2025) EndedAt: 2025-11-14 15:21:45 -0500 (Fri, 14 Nov 2025) EllapsedTime: 17.3 seconds RetCode: 0 Status: OK