Package: scoreInvHap Version: 1.33.0 Command: rm -rf scoreInvHap.buildbin-libdir && mkdir scoreInvHap.buildbin-libdir && /Users/biocbuild/BBS/utils/build-universal.sh scoreInvHap_1.33.0.tar.gz /Library/Frameworks/R.framework/Resources/bin/R scoreInvHap.buildbin-libdir StartedAt: 2025-11-14 23:51:01 -0500 (Fri, 14 Nov 2025) EndedAt: 2025-11-14 23:51:22 -0500 (Fri, 14 Nov 2025) EllapsedTime: 21.4 seconds RetCode: 0 Status: OK PackageFile: scoreInvHap_1.33.0.tgz PackageFileSize: 1.526 MiB