Package: scone Version: 1.35.0 Command: /home/biocbuild/bbs-3.23-bioc/R/bin/R CMD INSTALL scone StartedAt: 2025-11-21 15:54:20 -0500 (Fri, 21 Nov 2025) EndedAt: 2025-11-21 15:55:13 -0500 (Fri, 21 Nov 2025) EllapsedTime: 53.0 seconds RetCode: 0 Status: OK