Package: scone Version: 1.35.0 Command: /home/biocbuild/bbs-3.23-bioc/R/bin/R CMD build --keep-empty-dirs --no-resave-data scone StartedAt: 2025-11-21 19:55:16 -0500 (Fri, 21 Nov 2025) EndedAt: 2025-11-21 19:57:33 -0500 (Fri, 21 Nov 2025) EllapsedTime: 137.1 seconds RetCode: 0 Status: OK PackageFile: scone_1.35.0.tar.gz PackageFileSize: 1.768 MiB