Package: scone Version: 1.35.0 Command: /Library/Frameworks/R.framework/Resources/bin/R CMD INSTALL scone StartedAt: 2025-11-14 15:27:47 -0500 (Fri, 14 Nov 2025) EndedAt: 2025-11-14 15:28:09 -0500 (Fri, 14 Nov 2025) EllapsedTime: 22.1 seconds RetCode: 0 Status: OK