Package: scone Version: 1.35.0 Command: /Library/Frameworks/R.framework/Resources/bin/R CMD build --keep-empty-dirs --no-resave-data scone StartedAt: 2025-11-14 17:35:23 -0500 (Fri, 14 Nov 2025) EndedAt: 2025-11-14 17:36:26 -0500 (Fri, 14 Nov 2025) EllapsedTime: 62.7 seconds RetCode: 0 Status: OK PackageFile: scone_1.35.0.tar.gz PackageFileSize: 1.867 MiB