Package: scone Version: 1.35.0 Command: rm -rf scone.buildbin-libdir && mkdir scone.buildbin-libdir && /Users/biocbuild/BBS/utils/build-universal.sh scone_1.35.0.tar.gz /Library/Frameworks/R.framework/Resources/bin/R scone.buildbin-libdir StartedAt: 2025-11-14 23:50:58 -0500 (Fri, 14 Nov 2025) EndedAt: 2025-11-14 23:51:24 -0500 (Fri, 14 Nov 2025) EllapsedTime: 26.5 seconds RetCode: 0 Status: OK PackageFile: scone_1.35.0.tgz PackageFileSize: 2.054 MiB