Package: scone Version: 1.35.0 Maintainer: Davide Risso MaintainerEmail: risso.davide at gmail.com git_url: https://git.bioconductor.org/packages/scone git_branch: devel git_last_commit: 60f7f37 git_last_commit_date: 2025-10-29 10:36:05 -0500 (Wed, 29 Oct 2025)