Package: scmeth Version: 1.31.0 Command: /home/biocbuild/bbs-3.23-bioc/R/bin/R CMD build --keep-empty-dirs --no-resave-data scmeth StartedAt: 2025-11-11 19:59:30 -0500 (Tue, 11 Nov 2025) EndedAt: 2025-11-11 20:00:59 -0500 (Tue, 11 Nov 2025) EllapsedTime: 89.1 seconds RetCode: 0 Status: OK PackageFile: scmeth_1.31.0.tar.gz PackageFileSize: 769.3 KiB