############################################################################## ############################################################################## ### ### Running command: ### ### /Library/Frameworks/R.framework/Resources/bin/R CMD INSTALL scmeth ### ############################################################################## ############################################################################## * installing to library ‘/Library/Frameworks/R.framework/Versions/4.6-arm64/Resources/library’ ERROR: dependencies ‘bsseq’, ‘HDF5Array’ are not available for package ‘scmeth’ Perhaps try a variation of: install.packages(c('bsseq', 'HDF5Array')) * removing ‘/Library/Frameworks/R.framework/Versions/4.6-arm64/Resources/library/scmeth’