############################################################################## ############################################################################## ### ### Running command: ### ### /Library/Frameworks/R.framework/Resources/bin/R CMD build --keep-empty-dirs --no-resave-data scmeth ### ############################################################################## ############################################################################## * checking for file ‘scmeth/DESCRIPTION’ ... OK * preparing ‘scmeth’: * checking DESCRIPTION meta-information ... OK * installing the package (it is needed to build vignettes) ----------------------------------- ERROR: dependencies ‘bsseq’, ‘HDF5Array’ are not available for package ‘scmeth’ Perhaps try a variation of: install.packages(c('bsseq', 'HDF5Array')) * removing ‘/private/var/folders/r0/l4fjk6cj5xj0j3brt4bplpl40000gt/T/RtmpkgqIkc/Rinst71ef49c3697a/scmeth’ ----------------------------------- ERROR: package installation failed