Package: scmap Version: 1.33.0 Command: /home/biocbuild/bbs-3.23-bioc/R/bin/R CMD INSTALL scmap StartedAt: 2025-11-11 15:37:00 -0500 (Tue, 11 Nov 2025) EndedAt: 2025-11-11 15:37:41 -0500 (Tue, 11 Nov 2025) EllapsedTime: 40.6 seconds RetCode: 0 Status: OK