Package: scmap Version: 1.33.0 Command: /Library/Frameworks/R.framework/Resources/bin/R CMD INSTALL scmap StartedAt: 2025-11-13 15:19:27 -0500 (Thu, 13 Nov 2025) EndedAt: 2025-11-13 15:19:40 -0500 (Thu, 13 Nov 2025) EllapsedTime: 13.9 seconds RetCode: 0 Status: OK