Package: scmap Version: 1.33.0 Command: rm -rf scmap.buildbin-libdir && mkdir scmap.buildbin-libdir && /Users/biocbuild/BBS/utils/build-universal.sh scmap_1.33.0.tar.gz /Library/Frameworks/R.framework/Resources/bin/R scmap.buildbin-libdir StartedAt: 2025-11-12 21:10:06 -0500 (Wed, 12 Nov 2025) EndedAt: 2025-11-12 21:10:25 -0500 (Wed, 12 Nov 2025) EllapsedTime: 18.4 seconds RetCode: 0 Status: OK PackageFile: scmap_1.33.0.tgz PackageFileSize: 3.367 MiB