Package: scmap Version: 1.33.0 Maintainer: Vladimir Kiselev MaintainerEmail: vladimir.yu.kiselev at gmail.com git_url: https://git.bioconductor.org/packages/scmap git_branch: devel git_last_commit: 4fdff8f git_last_commit_date: 2025-10-29 10:39:19 -0500 (Wed, 29 Oct 2025)