Package: scifer Version: 1.13.0 Command: /home/biocbuild/bbs-3.23-bioc/R/bin/R CMD build --keep-empty-dirs --no-resave-data scifer StartedAt: 2025-11-13 19:53:38 -0500 (Thu, 13 Nov 2025) EndedAt: 2025-11-13 19:55:53 -0500 (Thu, 13 Nov 2025) EllapsedTime: 135.1 seconds RetCode: 0 Status: OK PackageFile: scifer_1.13.0.tar.gz PackageFileSize: 1.504 MiB