Package: scider Version: 1.9.0 Command: /home/biocbuild/bbs-3.23-bioc/R/bin/R CMD INSTALL scider StartedAt: 2025-11-13 15:20:09 -0500 (Thu, 13 Nov 2025) EndedAt: 2025-11-13 15:20:42 -0500 (Thu, 13 Nov 2025) EllapsedTime: 32.9 seconds RetCode: 0 Status: OK