Package: scider Version: 1.9.0 Command: /home/biocbuild/bbs-3.23-bioc/R/bin/R CMD build --keep-empty-dirs --no-resave-data scider StartedAt: 2025-11-13 19:53:24 -0500 (Thu, 13 Nov 2025) EndedAt: 2025-11-13 19:54:20 -0500 (Thu, 13 Nov 2025) EllapsedTime: 56.1 seconds RetCode: 0 Status: OK PackageFile: scider_1.9.0.tar.gz PackageFileSize: 2.33 MiB