Package: scider Version: 1.9.0 Command: /Library/Frameworks/R.framework/Resources/bin/R CMD INSTALL scider StartedAt: 2025-11-13 15:12:40 -0500 (Thu, 13 Nov 2025) EndedAt: 2025-11-13 15:12:54 -0500 (Thu, 13 Nov 2025) EllapsedTime: 13.5 seconds RetCode: 0 Status: OK